BEGIN:VCALENDAR
VERSION:2.0
PRODID:-//TKU - ECPv6.15.18//NONSGML v1.0//EN
CALSCALE:GREGORIAN
METHOD:PUBLISH
X-WR-CALNAME:TKU
X-ORIGINAL-URL:https://www.tku.edu
X-WR-CALDESC:Events for TKU
REFRESH-INTERVAL;VALUE=DURATION:PT1H
X-Robots-Tag:noindex
X-PUBLISHED-TTL:PT1H
BEGIN:VTIMEZONE
TZID:America/Chicago
BEGIN:DAYLIGHT
TZOFFSETFROM:-0600
TZOFFSETTO:-0500
TZNAME:CDT
DTSTART:20250309T080000
END:DAYLIGHT
BEGIN:STANDARD
TZOFFSETFROM:-0500
TZOFFSETTO:-0600
TZNAME:CST
DTSTART:20251102T070000
END:STANDARD
BEGIN:DAYLIGHT
TZOFFSETFROM:-0600
TZOFFSETTO:-0500
TZNAME:CDT
DTSTART:20260308T080000
END:DAYLIGHT
BEGIN:STANDARD
TZOFFSETFROM:-0500
TZOFFSETTO:-0600
TZNAME:CST
DTSTART:20261101T070000
END:STANDARD
BEGIN:DAYLIGHT
TZOFFSETFROM:-0600
TZOFFSETTO:-0500
TZNAME:CDT
DTSTART:20270314T080000
END:DAYLIGHT
BEGIN:STANDARD
TZOFFSETFROM:-0500
TZOFFSETTO:-0600
TZNAME:CST
DTSTART:20271107T070000
END:STANDARD
END:VTIMEZONE
BEGIN:VEVENT
DTSTART;TZID=America/Chicago:20260423T190000
DTEND;TZID=America/Chicago:20260423T200000
DTSTAMP:20260423T080438
CREATED:20260202T185833Z
LAST-MODIFIED:20260202T190019Z
UID:39172-1776970800-1776974400@www.tku.edu
SUMMARY:Virtual Discover The King's
DESCRIPTION:The King’s invites you to Discover The King’s virtually on Thursday\, April 23\, from 7-8 pm CDT via Zoom. Check-in open at 6:30 pm. This event is open to all degree levels. \nThis is a time for you to hear from The King’s faculty and staff\, learn more about the University’s program offerings\, get a jump start on the admissions process\, and talk personally with students\, faculty and staff\, all from the comfort of your home. \n**Zoom link provided upon registration. \nREGISTER TODAY!
URL:https://www.tku.edu/event/virtual-discover-the-kings-2/
LOCATION:Online via Zoom
CATEGORIES:Admissions
ATTACH;FMTTYPE=image/png:https://www.tku.edu/wp-content/uploads/2026/02/5.png
ORGANIZER;CN="The King's University":MAILTO:advancement@tku.edu
END:VEVENT
END:VCALENDAR